BEGIN:VCALENDAR
VERSION:2.0
PRODID:-//Christian Science St. Louis - ECPv6.15.14//NONSGML v1.0//EN
CALSCALE:GREGORIAN
METHOD:PUBLISH
X-ORIGINAL-URL:https://www.christiansciencestl.org
X-WR-CALDESC:Events for Christian Science St. Louis
REFRESH-INTERVAL;VALUE=DURATION:PT1H
X-Robots-Tag:noindex
X-PUBLISHED-TTL:PT1H
BEGIN:VTIMEZONE
TZID:UTC
BEGIN:STANDARD
TZOFFSETFROM:+0000
TZOFFSETTO:+0000
TZNAME:UTC
DTSTART:20250101T000000
END:STANDARD
END:VTIMEZONE
BEGIN:VEVENT
DTSTART;TZID=UTC:20260422T190000
DTEND;TZID=UTC:20260422T210000
DTSTAMP:20260421T170339
CREATED:20240111T183053Z
LAST-MODIFIED:20250722T134801Z
UID:10007143-1776884400-1776891600@www.christiansciencestl.org
SUMMARY:Wednesday Testimony Meeting every week!
DESCRIPTION:Every Wednesday evening\, Christian Science churches in St. Louis hold Bible-based services that include readings\, music\, and a time to share healings and insights. Find your closest church.
URL:https://www.christiansciencestl.org/events/wednesday-nov-2-2/2026-04-22/
CATEGORIES:Wednesday Testimony Meetings
ATTACH;FMTTYPE=image/png:https://www.christiansciencestl.org/wp-content/uploads/2022/10/Sun-Srve-BibleInPew-700pxl.png
END:VEVENT
END:VCALENDAR