BEGIN:VCALENDAR
VERSION:2.0
PRODID:-//Christian Science St. Louis - ECPv6.15.14//NONSGML v1.0//EN
CALSCALE:GREGORIAN
METHOD:PUBLISH
X-WR-CALNAME:Christian Science St. Louis
X-ORIGINAL-URL:https://www.christiansciencestl.org
X-WR-CALDESC:Events for Christian Science St. Louis
REFRESH-INTERVAL;VALUE=DURATION:PT1H
X-Robots-Tag:noindex
X-PUBLISHED-TTL:PT1H
BEGIN:VTIMEZONE
TZID:UTC
BEGIN:STANDARD
TZOFFSETFROM:+0000
TZOFFSETTO:+0000
TZNAME:UTC
DTSTART:20250101T000000
END:STANDARD
END:VTIMEZONE
BEGIN:VTIMEZONE
TZID:America/Chicago
BEGIN:DAYLIGHT
TZOFFSETFROM:-0600
TZOFFSETTO:-0500
TZNAME:CDT
DTSTART:20250309T080000
END:DAYLIGHT
BEGIN:STANDARD
TZOFFSETFROM:-0500
TZOFFSETTO:-0600
TZNAME:CST
DTSTART:20251102T070000
END:STANDARD
BEGIN:DAYLIGHT
TZOFFSETFROM:-0600
TZOFFSETTO:-0500
TZNAME:CDT
DTSTART:20260308T080000
END:DAYLIGHT
BEGIN:STANDARD
TZOFFSETFROM:-0500
TZOFFSETTO:-0600
TZNAME:CST
DTSTART:20261101T070000
END:STANDARD
BEGIN:DAYLIGHT
TZOFFSETFROM:-0600
TZOFFSETTO:-0500
TZNAME:CDT
DTSTART:20270314T080000
END:DAYLIGHT
BEGIN:STANDARD
TZOFFSETFROM:-0500
TZOFFSETTO:-0600
TZNAME:CST
DTSTART:20271107T070000
END:STANDARD
END:VTIMEZONE
BEGIN:VTIMEZONE
TZID:America/Chicago
BEGIN:DAYLIGHT
TZOFFSETFROM:-0600
TZOFFSETTO:-0500
TZNAME:CDT
DTSTART:20250309T080000
END:DAYLIGHT
BEGIN:STANDARD
TZOFFSETFROM:-0500
TZOFFSETTO:-0600
TZNAME:CST
DTSTART:20251102T070000
END:STANDARD
BEGIN:DAYLIGHT
TZOFFSETFROM:-0600
TZOFFSETTO:-0500
TZNAME:CDT
DTSTART:20260308T080000
END:DAYLIGHT
BEGIN:STANDARD
TZOFFSETFROM:-0500
TZOFFSETTO:-0600
TZNAME:CST
DTSTART:20261101T070000
END:STANDARD
BEGIN:DAYLIGHT
TZOFFSETFROM:-0600
TZOFFSETTO:-0500
TZNAME:CDT
DTSTART:20270314T080000
END:DAYLIGHT
BEGIN:STANDARD
TZOFFSETFROM:-0500
TZOFFSETTO:-0600
TZNAME:CST
DTSTART:20271107T070000
END:STANDARD
END:VTIMEZONE
BEGIN:VEVENT
DTSTART;VALUE=DATE:20260102
DTEND;VALUE=DATE:20260103
DTSTAMP:20260421T173038
CREATED:20250604T015633Z
LAST-MODIFIED:20251118T162715Z
UID:10008684-1767312000-1767398399@www.christiansciencestl.org
SUMMARY:Daily Lift -- Inspiration Monday through Friday!
DESCRIPTION:Get Your Daily Lift 5 Days A Week!\nThe Christian Science Daily Lift podcast contains life stories and spiritual lessons from people just like you. Each Lift shares a healing idea that can bless you and help you bless others —all in just a few minutes. The Daily Lift has new episodes Monday through Friday. \nClick here to listen in 24/7\n 
URL:https://www.christiansciencestl.org/events/daily-lift-3-2-2/2026-01-02/
CATEGORIES:Daily Inspiration,Featured
ATTACH;FMTTYPE=image/png:https://www.christiansciencestl.org/wp-content/uploads/2023/09/CS-STL-Daily-Lift-thumb.png
END:VEVENT
BEGIN:VEVENT
DTSTART;TZID=America/Chicago:20260104T100000
DTEND;TZID=America/Chicago:20260104T100000
DTSTAMP:20260421T173038
CREATED:20240111T203607Z
LAST-MODIFIED:20250722T134721Z
UID:10008116-1767520800-1767520800@www.christiansciencestl.org
SUMMARY:Church service every Sunday morning
DESCRIPTION:Sunday Church Services\n\n\nEvery Sunday morning\, the Christian Science churches in St. Louis hold Bible-based services that include readings\, hymns\, and music. Click to find your closest church.
URL:https://www.christiansciencestl.org/events/find-a-church-service-every-sunday-morning-and-wednesday-evening-2-2/2026-01-04/
CATEGORIES:Sunday Church Services
ATTACH;FMTTYPE=image/jpeg:https://www.christiansciencestl.org/wp-content/uploads/2022/10/Kirkwood-750x750-1.jpg
END:VEVENT
BEGIN:VEVENT
DTSTART;TZID=UTC:20260107T190000
DTEND;TZID=UTC:20260107T210000
DTSTAMP:20260421T173038
CREATED:20240111T183053Z
LAST-MODIFIED:20250722T134801Z
UID:10007128-1767812400-1767819600@www.christiansciencestl.org
SUMMARY:Wednesday Testimony Meeting every week!
DESCRIPTION:Every Wednesday evening\, Christian Science churches in St. Louis hold Bible-based services that include readings\, music\, and a time to share healings and insights. Find your closest church.
URL:https://www.christiansciencestl.org/events/wednesday-nov-2-2/2026-01-07/
CATEGORIES:Wednesday Testimony Meetings
ATTACH;FMTTYPE=image/png:https://www.christiansciencestl.org/wp-content/uploads/2022/10/Sun-Srve-BibleInPew-700pxl.png
END:VEVENT
BEGIN:VEVENT
DTSTART;TZID=America/Chicago:20260111T100000
DTEND;TZID=America/Chicago:20260111T100000
DTSTAMP:20260421T173038
CREATED:20240111T203607Z
LAST-MODIFIED:20250722T134721Z
UID:10008117-1768125600-1768125600@www.christiansciencestl.org
SUMMARY:Church service every Sunday morning
DESCRIPTION:Sunday Church Services\n\n\nEvery Sunday morning\, the Christian Science churches in St. Louis hold Bible-based services that include readings\, hymns\, and music. Click to find your closest church.
URL:https://www.christiansciencestl.org/events/find-a-church-service-every-sunday-morning-and-wednesday-evening-2-2/2026-01-11/
CATEGORIES:Sunday Church Services
ATTACH;FMTTYPE=image/jpeg:https://www.christiansciencestl.org/wp-content/uploads/2022/10/Kirkwood-750x750-1.jpg
END:VEVENT
BEGIN:VEVENT
DTSTART;VALUE=DATE:20260112
DTEND;VALUE=DATE:20260113
DTSTAMP:20260421T173038
CREATED:20250604T015241Z
LAST-MODIFIED:20260204T192159Z
UID:10008625-1768176000-1768262399@www.christiansciencestl.org
SUMMARY:Weekly Sentinel Watch
DESCRIPTION:Listen to a new Sentinel Watch Podcast every week!\nThis weekly half-hour interview podcast takes an in-depth look at how to heal life’s challenges by using a spiritual perspective. The program talks with people who have used the principles of Christian Science to solve problems with health\, career\, purpose\, relationships\, and more. \nClick here to listen 24/7!
URL:https://www.christiansciencestl.org/events/sentinel-watch-2-2-2/2026-01-12/
CATEGORIES:Daily Inspiration
ATTACH;FMTTYPE=image/png:https://www.christiansciencestl.org/wp-content/uploads/2022/10/MS-steamboat-merlin_43694447-sq.png
END:VEVENT
BEGIN:VEVENT
DTSTART;TZID=UTC:20260114T190000
DTEND;TZID=UTC:20260114T210000
DTSTAMP:20260421T173038
CREATED:20240111T183053Z
LAST-MODIFIED:20250722T134801Z
UID:10007129-1768417200-1768424400@www.christiansciencestl.org
SUMMARY:Wednesday Testimony Meeting every week!
DESCRIPTION:Every Wednesday evening\, Christian Science churches in St. Louis hold Bible-based services that include readings\, music\, and a time to share healings and insights. Find your closest church.
URL:https://www.christiansciencestl.org/events/wednesday-nov-2-2/2026-01-14/
CATEGORIES:Wednesday Testimony Meetings
ATTACH;FMTTYPE=image/png:https://www.christiansciencestl.org/wp-content/uploads/2022/10/Sun-Srve-BibleInPew-700pxl.png
END:VEVENT
BEGIN:VEVENT
DTSTART;TZID=America/Chicago:20260118T100000
DTEND;TZID=America/Chicago:20260118T100000
DTSTAMP:20260421T173038
CREATED:20240111T203607Z
LAST-MODIFIED:20250722T134721Z
UID:10008118-1768730400-1768730400@www.christiansciencestl.org
SUMMARY:Church service every Sunday morning
DESCRIPTION:Sunday Church Services\n\n\nEvery Sunday morning\, the Christian Science churches in St. Louis hold Bible-based services that include readings\, hymns\, and music. Click to find your closest church.
URL:https://www.christiansciencestl.org/events/find-a-church-service-every-sunday-morning-and-wednesday-evening-2-2/2026-01-18/
CATEGORIES:Sunday Church Services
ATTACH;FMTTYPE=image/jpeg:https://www.christiansciencestl.org/wp-content/uploads/2022/10/Kirkwood-750x750-1.jpg
END:VEVENT
BEGIN:VEVENT
DTSTART;TZID=UTC:20260121T190000
DTEND;TZID=UTC:20260121T210000
DTSTAMP:20260421T173038
CREATED:20240111T183053Z
LAST-MODIFIED:20250722T134801Z
UID:10007130-1769022000-1769029200@www.christiansciencestl.org
SUMMARY:Wednesday Testimony Meeting every week!
DESCRIPTION:Every Wednesday evening\, Christian Science churches in St. Louis hold Bible-based services that include readings\, music\, and a time to share healings and insights. Find your closest church.
URL:https://www.christiansciencestl.org/events/wednesday-nov-2-2/2026-01-21/
CATEGORIES:Wednesday Testimony Meetings
ATTACH;FMTTYPE=image/png:https://www.christiansciencestl.org/wp-content/uploads/2022/10/Sun-Srve-BibleInPew-700pxl.png
END:VEVENT
BEGIN:VEVENT
DTSTART;TZID=America/Chicago:20260122T193000
DTEND;TZID=America/Chicago:20260122T210000
DTSTAMP:20260421T173038
CREATED:20260204T191719Z
LAST-MODIFIED:20260204T195523Z
UID:10009161-1769110200-1769115600@www.christiansciencestl.org
SUMMARY:The Book of Mark: Six-session Evening Bible Study
DESCRIPTION:Creve Coeur \nDig deep into the Book of Mark with this six-part study. With meetings held on selected Thursday evenings from Jan 22 – April 16\, you’ll explore historical and spiritual aspects of this powerful and fast-paced gospel.  \nThe sessions will be held on Jan 22\, Feb 5\, Feb 19\, Mar 5\, Mar 26\, and Apr 16.  \nThese meetings\, led by Christian Science practitioner\, Kim Hedge\, CS\, will be held in-person and on Zoom. Kim serves in the full-time healing ministry through the practice of Christian Science\, and is finishing up her divinity degree at Eden Theological Seminary. \n  \nTo register for this free workshop\, email regionalcsrr@gmail.com. Optional study materials are available to purchase.\n\n\nThe Book of Mark: Six-session Evening Bible Study\nled by Kim Hedge\, CS\nwill meet for 6 weeks\nSt. Louis Regional Christian Science Reading Room\n10552 Old Olive Street Rd\, St. Louis\, MO \nSee all information on the right side bar.
URL:https://www.christiansciencestl.org/events/the-book-of-mark-six-session-evening-bible-study/
LOCATION:Regional Christian Science Reading Room\, 10552 Old Olive Street Rd.\, St. Louis\, MO\, 63141
CATEGORIES:Special Event
ATTACH;FMTTYPE=image/jpeg:https://www.christiansciencestl.org/wp-content/uploads/2026/01/Bookofmark.jpg
ORGANIZER;CN="Regional Christian Science Reading Room":MAILTO:CreveCoeurCSRR@gmail.com
END:VEVENT
BEGIN:VEVENT
DTSTART;TZID=America/Chicago:20260125T100000
DTEND;TZID=America/Chicago:20260125T100000
DTSTAMP:20260421T173038
CREATED:20240111T203607Z
LAST-MODIFIED:20250722T134721Z
UID:10008119-1769335200-1769335200@www.christiansciencestl.org
SUMMARY:Church service every Sunday morning
DESCRIPTION:Sunday Church Services\n\n\nEvery Sunday morning\, the Christian Science churches in St. Louis hold Bible-based services that include readings\, hymns\, and music. Click to find your closest church.
URL:https://www.christiansciencestl.org/events/find-a-church-service-every-sunday-morning-and-wednesday-evening-2-2/2026-01-25/
CATEGORIES:Sunday Church Services
ATTACH;FMTTYPE=image/jpeg:https://www.christiansciencestl.org/wp-content/uploads/2022/10/Kirkwood-750x750-1.jpg
END:VEVENT
BEGIN:VEVENT
DTSTART;TZID=America/Chicago:20260125T100000
DTEND;TZID=America/Chicago:20260125T100000
DTSTAMP:20260421T173038
CREATED:20250903T114104Z
LAST-MODIFIED:20251118T162707Z
UID:10009095-1769335200-1769335200@www.christiansciencestl.org
SUMMARY:Attend a Church Service Every Sunday Morning
DESCRIPTION:Sunday Church Services\n\n\nEvery Sunday morning\, the Christian Science churches in St. Louis hold Bible-based services that include readings\, hymns\, and music. \nClick  here to find a church closest to you!
URL:https://www.christiansciencestl.org/events/attend-a-church-service-every-sunday-morning-2/2026-01-25/
CATEGORIES:Featured,Sunday Church Services
ATTACH;FMTTYPE=image/jpeg:https://www.christiansciencestl.org/wp-content/uploads/2022/10/jerseyville-750x750-1.jpg
END:VEVENT
BEGIN:VEVENT
DTSTART;TZID=UTC:20260128T190000
DTEND;TZID=UTC:20260128T210000
DTSTAMP:20260421T173038
CREATED:20240111T183053Z
LAST-MODIFIED:20250722T134801Z
UID:10007131-1769626800-1769634000@www.christiansciencestl.org
SUMMARY:Wednesday Testimony Meeting every week!
DESCRIPTION:Every Wednesday evening\, Christian Science churches in St. Louis hold Bible-based services that include readings\, music\, and a time to share healings and insights. Find your closest church.
URL:https://www.christiansciencestl.org/events/wednesday-nov-2-2/2026-01-28/
CATEGORIES:Wednesday Testimony Meetings
ATTACH;FMTTYPE=image/png:https://www.christiansciencestl.org/wp-content/uploads/2022/10/Sun-Srve-BibleInPew-700pxl.png
END:VEVENT
END:VCALENDAR