BEGIN:VCALENDAR
VERSION:2.0
PRODID:-//Christian Science St. Louis - ECPv6.15.14//NONSGML v1.0//EN
CALSCALE:GREGORIAN
METHOD:PUBLISH
X-ORIGINAL-URL:https://www.christiansciencestl.org
X-WR-CALDESC:Events for Christian Science St. Louis
REFRESH-INTERVAL;VALUE=DURATION:PT1H
X-Robots-Tag:noindex
X-PUBLISHED-TTL:PT1H
BEGIN:VTIMEZONE
TZID:America/Chicago
BEGIN:DAYLIGHT
TZOFFSETFROM:-0600
TZOFFSETTO:-0500
TZNAME:CDT
DTSTART:20250309T080000
END:DAYLIGHT
BEGIN:STANDARD
TZOFFSETFROM:-0500
TZOFFSETTO:-0600
TZNAME:CST
DTSTART:20251102T070000
END:STANDARD
BEGIN:DAYLIGHT
TZOFFSETFROM:-0600
TZOFFSETTO:-0500
TZNAME:CDT
DTSTART:20260308T080000
END:DAYLIGHT
BEGIN:STANDARD
TZOFFSETFROM:-0500
TZOFFSETTO:-0600
TZNAME:CST
DTSTART:20261101T070000
END:STANDARD
BEGIN:DAYLIGHT
TZOFFSETFROM:-0600
TZOFFSETTO:-0500
TZNAME:CDT
DTSTART:20270314T080000
END:DAYLIGHT
BEGIN:STANDARD
TZOFFSETFROM:-0500
TZOFFSETTO:-0600
TZNAME:CST
DTSTART:20271107T070000
END:STANDARD
END:VTIMEZONE
BEGIN:VTIMEZONE
TZID:UTC
BEGIN:STANDARD
TZOFFSETFROM:+0000
TZOFFSETTO:+0000
TZNAME:UTC
DTSTART:20250101T000000
END:STANDARD
END:VTIMEZONE
BEGIN:VEVENT
DTSTART;TZID=America/Chicago:20260425T110000
DTEND;TZID=America/Chicago:20260426T170000
DTSTAMP:20260421T191155
CREATED:20260328T153926Z
LAST-MODIFIED:20260407T230852Z
UID:10009170-1777114800-1777222800@www.christiansciencestl.org
SUMMARY:Spiritual Sustainability at St. Louis Earth Day Festival
DESCRIPTION:St. Louis Earth Day Festival at Muny Grounds\nForest Park \n\nCan our SPIRITUALITY impact sustainability?\nYou are invited!\nStop by the Christian Science booth at the St. Louis Earth Day Festival. Join us for lively discussions about the relevance of prayer and spirituality to solving environmental and sustainability challenges. Booth M20.\nWe’ll be there at Booth M20 on both Saturday and Sunday\, April 26 and April 26 from 11 am to 5 pm each day.\nSee you there!\n\n\nSpiritual Sustainability – Booth M20\nat St. Louis Earth Day Festival\nSat & Sun\, April 25 and 26\n11 am – 5 pm each day\nMuny Grounds in Forest Park\n1 Theatre Drive\, St. Louis\, MO\, 63112\nSee all information on the right side bar.\nCall 314-918-5350 with questions\nBooth sponsored First Church of Christ\, Scientist\, Creve Coeur
URL:https://www.christiansciencestl.org/events/spiritual-sustainability-at-st-louis-earth-day-festival/
LOCATION:St Louis Earth Day Festival\, 1 Theatre Drive\, St. Louis\, MO\, 63112
CATEGORIES:Featured,Special Event
ATTACH;FMTTYPE=image/jpeg:https://www.christiansciencestl.org/wp-content/uploads/2025/04/CSSTL-Spiritual-Sustainability-SQ-2.jpg
END:VEVENT
BEGIN:VEVENT
DTSTART;VALUE=DATE:20260501
DTEND;VALUE=DATE:20260502
DTSTAMP:20260421T191155
CREATED:20260331T135307Z
LAST-MODIFIED:20260331T135307Z
UID:10008688-1777593600-1777679999@www.christiansciencestl.org
SUMMARY:Daily Lift -- Inspiration Monday through Friday!
DESCRIPTION:Get Your Daily Lift 5 Days A Week!\nThe Christian Science Daily Lift podcast contains life stories and spiritual lessons from people just like you. Each Lift shares a healing idea that can bless you and help you bless others —all in just a few minutes. The Daily Lift has new episodes Monday through Friday. \nClick here to listen in 24/7\n 
URL:https://www.christiansciencestl.org/events/daily-lift-3-2-2-2/2026-05-01/
CATEGORIES:Daily Inspiration
ATTACH;FMTTYPE=image/png:https://www.christiansciencestl.org/wp-content/uploads/2023/09/CS-STL-Daily-Lift-thumb.png
END:VEVENT
BEGIN:VEVENT
DTSTART;TZID=America/Chicago:20260509T160000
DTEND;TZID=America/Chicago:20260509T170000
DTSTAMP:20260421T191155
CREATED:20260410T152552Z
LAST-MODIFIED:20260410T152814Z
UID:10009182-1778342400-1778346000@www.christiansciencestl.org
SUMMARY:Free Public Talk - Finding where God is seen and felt
DESCRIPTION:Clarkson Valley\nChild care provided\nFinding where God is seen and feltWhat’s church got to do with it?(Maybe church is more than a building.)\nEmra Farkas discusses the real role of church — not just as a building\, but as a new kind of thinking that reveals God’s goodness for you and everyone around you. She gives tangible examples of how the right meaning of church heals\, and shares her personal journey of finding her way back to a spiritually centered outlook. The lecture features several of her own healings\, both from childhood and adulthood. \nAbout Caryl Emra Farkas\, CSB\n\n \nThe most important influences on Emra’s life were her mother\, who taught her to pray when confronted with difficulties\, and her Christian Science Sunday School. In her teens\, when a teacher asked her to speak to a social studies class about her religion\, she discovered the joy that comes from sharing what she understood and had experienced of Mary Baker Eddy’s discovery. She was asked back each year and was always moved by the way students who were skeptical about the subject became interested after hearing her accounts of spiritual healing — her healings of a severed thumb\, tonsillitis\, swimmer’s ear\, bullying\, and other difficulties. \nHowever\, during college and graduate school\, she drifted away from church. Her degrees were in fine arts\, and after school she worked for galleries and museums in New York City. Her interest in finding spiritual answers to life’s challenges was rekindled\, and she explored a variety of spiritual disciplines in search of answers. This hands-on study of comparative religion helped her understand the universality of the search for spiritual truth\, but left her with unanswered questions. \nShe and her husband moved to Taos\, New Mexico\, where she enjoyed a career in music performance and started a family. After some years of poor health\, a sudden spiritual insight led her back to Christian Science and to an instantaneous healing of multiple chronic illnesses. \nThis inspired a deeper study of Eddy’s writings. That study led her back to church\, to Christian Science class instruction\, and eventually to a ten-year intensive course of study. Shortly thereafter\, she became a full-time Christian Science practitioner. \nEmra says there is nothing more satisfying than seeing divine Truth and Love transform lives and bring healing. She feels deeply blessed to practice and teach Christian Science\, contribute to the Christian Science periodicals\, serve her branch church\, and serve as a member of the Christian Science Board of Lectureship. \n\nCaryl Emra Farkas will give her talk at the Church Edifice2989 Clarkson RoadChesterfield\, MO 63017\nChildcare will be provided.\nSee all information on the right side bar.
URL:https://www.christiansciencestl.org/events/finding-where-god-is-seen-and-felt-2026/
LOCATION:First Church of Christ Scientist\, Clarkson Valley\, 2989 Clarkson Rd\, Chesterfield\, MO\, 63017
CATEGORIES:Christian Science Talks,Featured
ATTACH;FMTTYPE=image/jpeg:https://www.christiansciencestl.org/wp-content/uploads/2026/04/csstl-sq-4.10.26.jpg
ORGANIZER;CN="First Church of Christ Scientist%2C Clarkson Valley":MAILTO:cschurchclarksonvalley@gmail.com
END:VEVENT
BEGIN:VEVENT
DTSTART;VALUE=DATE:20260511
DTEND;VALUE=DATE:20260512
DTSTAMP:20260421T191155
CREATED:20250604T015241Z
LAST-MODIFIED:20260204T192159Z
UID:10008629-1778457600-1778543999@www.christiansciencestl.org
SUMMARY:Weekly Sentinel Watch
DESCRIPTION:Listen to a new Sentinel Watch Podcast every week!\nThis weekly half-hour interview podcast takes an in-depth look at how to heal life’s challenges by using a spiritual perspective. The program talks with people who have used the principles of Christian Science to solve problems with health\, career\, purpose\, relationships\, and more. \nClick here to listen 24/7!
URL:https://www.christiansciencestl.org/events/sentinel-watch-2-2-2/2026-05-11/
CATEGORIES:Daily Inspiration
ATTACH;FMTTYPE=image/png:https://www.christiansciencestl.org/wp-content/uploads/2022/10/MS-steamboat-merlin_43694447-sq.png
END:VEVENT
END:VCALENDAR