BEGIN:VCALENDAR
VERSION:2.0
PRODID:-//Christian Science St. Louis - ECPv6.15.14//NONSGML v1.0//EN
CALSCALE:GREGORIAN
METHOD:PUBLISH
X-WR-CALNAME:Christian Science St. Louis
X-ORIGINAL-URL:https://www.christiansciencestl.org
X-WR-CALDESC:Events for Christian Science St. Louis
REFRESH-INTERVAL;VALUE=DURATION:PT1H
X-Robots-Tag:noindex
X-PUBLISHED-TTL:PT1H
BEGIN:VTIMEZONE
TZID:UTC
BEGIN:STANDARD
TZOFFSETFROM:+0000
TZOFFSETTO:+0000
TZNAME:UTC
DTSTART:20220101T000000
END:STANDARD
END:VTIMEZONE
BEGIN:VEVENT
DTSTART;VALUE=DATE:20231002
DTEND;VALUE=DATE:20231003
DTSTAMP:20260424T104100
CREATED:20230921T150045Z
LAST-MODIFIED:20250604T015113Z
UID:10006810-1696204800-1696291199@www.christiansciencestl.org
SUMMARY:Daily Lift -- Inspiration Monday through Friday!
DESCRIPTION:Get Your Daily Lift 5 Days A Week!\nThe Christian Science Daily Lift podcast contains life stories and spiritual lessons from people just like you. Each Lift shares a healing idea that can bless you and help you bless others —all in just a few minutes. The Daily Lift has new episodes Monday through Friday. \nClick here to listen in 24/7\n 
URL:https://www.christiansciencestl.org/events/daily-lift-3-2/2023-10-02/
CATEGORIES:Daily Inspiration,Featured
ATTACH;FMTTYPE=image/png:https://www.christiansciencestl.org/wp-content/uploads/2023/09/CS-STL-Daily-Lift-thumb.png
END:VEVENT
END:VCALENDAR