BEGIN:VCALENDAR
VERSION:2.0
PRODID:-//Christian Science St. Louis - ECPv6.15.14//NONSGML v1.0//EN
CALSCALE:GREGORIAN
METHOD:PUBLISH
X-WR-CALNAME:Christian Science St. Louis
X-ORIGINAL-URL:https://www.christiansciencestl.org
X-WR-CALDESC:Events for Christian Science St. Louis
REFRESH-INTERVAL;VALUE=DURATION:PT1H
X-Robots-Tag:noindex
X-PUBLISHED-TTL:PT1H
BEGIN:VTIMEZONE
TZID:UTC
BEGIN:STANDARD
TZOFFSETFROM:+0000
TZOFFSETTO:+0000
TZNAME:UTC
DTSTART:20220101T000000
END:STANDARD
END:VTIMEZONE
BEGIN:VEVENT
DTSTART;TZID=UTC:20231126T100000
DTEND;TZID=UTC:20231126T120000
DTSTAMP:20260424T060250
CREATED:20230921T050117Z
LAST-MODIFIED:20250722T135438Z
UID:10006751-1700992800-1701000000@www.christiansciencestl.org
SUMMARY:Church service every Sunday morning
DESCRIPTION:Sunday Church Services\n\n\nEvery Sunday morning\, the Christian Science churches in St. Louis hold Bible-based services that include readings\, hymns\, and music. Click to find your closest church.
URL:https://www.christiansciencestl.org/events/find-a-church-service-every-sunday-morning-and-wednesday-evening-2/2023-11-26/
CATEGORIES:Sunday Church Services
ATTACH;FMTTYPE=image/jpeg:https://www.christiansciencestl.org/wp-content/uploads/2022/10/Kirkwood-750x750-1.jpg
END:VEVENT
END:VCALENDAR