BEGIN:VCALENDAR
VERSION:2.0
PRODID:-//Christian Science St. Louis - ECPv6.15.14//NONSGML v1.0//EN
CALSCALE:GREGORIAN
METHOD:PUBLISH
X-WR-CALNAME:Christian Science St. Louis
X-ORIGINAL-URL:https://www.christiansciencestl.org
X-WR-CALDESC:Events for Christian Science St. Louis
REFRESH-INTERVAL;VALUE=DURATION:PT1H
X-Robots-Tag:noindex
X-PUBLISHED-TTL:PT1H
BEGIN:VTIMEZONE
TZID:America/Chicago
BEGIN:DAYLIGHT
TZOFFSETFROM:-0600
TZOFFSETTO:-0500
TZNAME:CDT
DTSTART:20220313T080000
END:DAYLIGHT
BEGIN:STANDARD
TZOFFSETFROM:-0500
TZOFFSETTO:-0600
TZNAME:CST
DTSTART:20221106T070000
END:STANDARD
BEGIN:DAYLIGHT
TZOFFSETFROM:-0600
TZOFFSETTO:-0500
TZNAME:CDT
DTSTART:20230312T080000
END:DAYLIGHT
BEGIN:STANDARD
TZOFFSETFROM:-0500
TZOFFSETTO:-0600
TZNAME:CST
DTSTART:20231105T070000
END:STANDARD
BEGIN:DAYLIGHT
TZOFFSETFROM:-0600
TZOFFSETTO:-0500
TZNAME:CDT
DTSTART:20240310T080000
END:DAYLIGHT
BEGIN:STANDARD
TZOFFSETFROM:-0500
TZOFFSETTO:-0600
TZNAME:CST
DTSTART:20241103T070000
END:STANDARD
END:VTIMEZONE
BEGIN:VTIMEZONE
TZID:UTC
BEGIN:STANDARD
TZOFFSETFROM:+0000
TZOFFSETTO:+0000
TZNAME:UTC
DTSTART:20220101T000000
END:STANDARD
END:VTIMEZONE
BEGIN:VEVENT
DTSTART;TZID=America/Chicago:20231203T140000
DTEND;TZID=America/Chicago:20231203T150000
DTSTAMP:20260424T060318
CREATED:20231025T132732Z
LAST-MODIFIED:20231109T145802Z
UID:10007025-1701612000-1701615600@www.christiansciencestl.org
SUMMARY:Free Public Talk:  Discovering Ever Present Love - Active in Your Life
DESCRIPTION:Central West End\nChild care provided\nDiscovering Ever Present Love – Active in Your Life\n\n\n\nCome and explore how a view of Love as God can bring more thoughtful\, tender affection to your relationships. Love might be what life is all about. \n“Love might be what life is all about. This talk will show how a bigger\, truer sense of God can bring more thoughtful\, tender affection to your relationships. You will hear how a sense of God as Love refines our search for love\, helps us deal with a lack or loss of love\, and can also result in physical healing.” – Janet Hegarty\n\n\n  \nAbout Janet Hegarty\n\nWhat Janet loves about Christian Science is the way it answers pressing questions that come to all of us. Questions like: Who am I? Why am I here? How can I find health and happiness? These questions were uppermost in her thought as she entered college. She studied music composition at Washington University in St. Louis. Then\, she moved to Chicago\, to earn a master’s degree in music. Around that time\, she was introduced to Christian Science and began finding the answers to her questions about identity\, purpose\, and health\, which made a huge difference in her life. \nJanet’s life has been transformed from living in fear for her health and uncertainty about the future to feeling secure in the spiritual basis for health and having a joyous expectation of good. This transformation showed her the life-changing power of God’s goodness and the healing that results from understanding our oneness with God. These ideas have been useful to Janet in her  healing work\, and she loves sharing them in her prison ministry\, with interfaith groups\, and in the public talks she gives on Christian Science. \n\nJanet Hegarty will give her talk at First Church of Christ\, Scientist\, St. Louis.\nChildcare will be provided.\nSee all information on the right side bar.
URL:https://www.christiansciencestl.org/events/free-public-talk-discovering-ever-present-love-active-in-your-life/
LOCATION:First Church of Christ\, Scientist\, St. Louis\, 5000 Westminster Place(at Kingshighway)\, St. Louis\, MO\, 63108\, United States
CATEGORIES:Christian Science Talks,Featured
ATTACH;FMTTYPE=image/png:https://www.christiansciencestl.org/wp-content/uploads/2023/10/Lecture-1st-STL-pexels-oleksandr-p-3036405.png
ORGANIZER;CN="First Church of Christ%2C Scientist%2C St. Louis":MAILTO:clerk@firstchurchstl.org
END:VEVENT
BEGIN:VEVENT
DTSTART;VALUE=DATE:20231204
DTEND;VALUE=DATE:20231205
DTSTAMP:20260424T060318
CREATED:20230921T150045Z
LAST-MODIFIED:20250604T015113Z
UID:10006812-1701648000-1701734399@www.christiansciencestl.org
SUMMARY:Daily Lift -- Inspiration Monday through Friday!
DESCRIPTION:Get Your Daily Lift 5 Days A Week!\nThe Christian Science Daily Lift podcast contains life stories and spiritual lessons from people just like you. Each Lift shares a healing idea that can bless you and help you bless others —all in just a few minutes. The Daily Lift has new episodes Monday through Friday. \nClick here to listen in 24/7\n 
URL:https://www.christiansciencestl.org/events/daily-lift-3-2/2023-12-04/
CATEGORIES:Daily Inspiration,Featured
ATTACH;FMTTYPE=image/png:https://www.christiansciencestl.org/wp-content/uploads/2023/09/CS-STL-Daily-Lift-thumb.png
END:VEVENT
END:VCALENDAR