BEGIN:VCALENDAR
VERSION:2.0
PRODID:-//Christian Science St. Louis - ECPv6.15.14//NONSGML v1.0//EN
CALSCALE:GREGORIAN
METHOD:PUBLISH
X-WR-CALNAME:Christian Science St. Louis
X-ORIGINAL-URL:https://www.christiansciencestl.org
X-WR-CALDESC:Events for Christian Science St. Louis
REFRESH-INTERVAL;VALUE=DURATION:PT1H
X-Robots-Tag:noindex
X-PUBLISHED-TTL:PT1H
BEGIN:VTIMEZONE
TZID:America/Chicago
BEGIN:DAYLIGHT
TZOFFSETFROM:-0600
TZOFFSETTO:-0500
TZNAME:CDT
DTSTART:20250309T080000
END:DAYLIGHT
BEGIN:STANDARD
TZOFFSETFROM:-0500
TZOFFSETTO:-0600
TZNAME:CST
DTSTART:20251102T070000
END:STANDARD
BEGIN:DAYLIGHT
TZOFFSETFROM:-0600
TZOFFSETTO:-0500
TZNAME:CDT
DTSTART:20260308T080000
END:DAYLIGHT
BEGIN:STANDARD
TZOFFSETFROM:-0500
TZOFFSETTO:-0600
TZNAME:CST
DTSTART:20261101T070000
END:STANDARD
BEGIN:DAYLIGHT
TZOFFSETFROM:-0600
TZOFFSETTO:-0500
TZNAME:CDT
DTSTART:20270314T080000
END:DAYLIGHT
BEGIN:STANDARD
TZOFFSETFROM:-0500
TZOFFSETTO:-0600
TZNAME:CST
DTSTART:20271107T070000
END:STANDARD
END:VTIMEZONE
BEGIN:VTIMEZONE
TZID:UTC
BEGIN:STANDARD
TZOFFSETFROM:+0000
TZOFFSETTO:+0000
TZNAME:UTC
DTSTART:20250101T000000
END:STANDARD
END:VTIMEZONE
BEGIN:VEVENT
DTSTART;TZID=America/Chicago:20260308T100000
DTEND;TZID=America/Chicago:20260308T100000
DTSTAMP:20260421T153248
CREATED:20240111T203607Z
LAST-MODIFIED:20250722T134721Z
UID:10008125-1772964000-1772964000@www.christiansciencestl.org
SUMMARY:Church service every Sunday morning
DESCRIPTION:Sunday Church Services\n\n\nEvery Sunday morning\, the Christian Science churches in St. Louis hold Bible-based services that include readings\, hymns\, and music. Click to find your closest church.
URL:https://www.christiansciencestl.org/events/find-a-church-service-every-sunday-morning-and-wednesday-evening-2-2/2026-03-08/
CATEGORIES:Sunday Church Services
ATTACH;FMTTYPE=image/jpeg:https://www.christiansciencestl.org/wp-content/uploads/2022/10/Kirkwood-750x750-1.jpg
END:VEVENT
BEGIN:VEVENT
DTSTART;VALUE=DATE:20260309
DTEND;VALUE=DATE:20260310
DTSTAMP:20260421T153248
CREATED:20250604T015241Z
LAST-MODIFIED:20260204T192159Z
UID:10008627-1773014400-1773100799@www.christiansciencestl.org
SUMMARY:Weekly Sentinel Watch
DESCRIPTION:Listen to a new Sentinel Watch Podcast every week!\nThis weekly half-hour interview podcast takes an in-depth look at how to heal life’s challenges by using a spiritual perspective. The program talks with people who have used the principles of Christian Science to solve problems with health\, career\, purpose\, relationships\, and more. \nClick here to listen 24/7!
URL:https://www.christiansciencestl.org/events/sentinel-watch-2-2-2/2026-03-09/
CATEGORIES:Daily Inspiration
ATTACH;FMTTYPE=image/png:https://www.christiansciencestl.org/wp-content/uploads/2022/10/MS-steamboat-merlin_43694447-sq.png
END:VEVENT
BEGIN:VEVENT
DTSTART;TZID=UTC:20260311T190000
DTEND;TZID=UTC:20260311T210000
DTSTAMP:20260421T153248
CREATED:20240111T183053Z
LAST-MODIFIED:20250722T134801Z
UID:10007137-1773255600-1773262800@www.christiansciencestl.org
SUMMARY:Wednesday Testimony Meeting every week!
DESCRIPTION:Every Wednesday evening\, Christian Science churches in St. Louis hold Bible-based services that include readings\, music\, and a time to share healings and insights. Find your closest church.
URL:https://www.christiansciencestl.org/events/wednesday-nov-2-2/2026-03-11/
CATEGORIES:Wednesday Testimony Meetings
ATTACH;FMTTYPE=image/png:https://www.christiansciencestl.org/wp-content/uploads/2022/10/Sun-Srve-BibleInPew-700pxl.png
END:VEVENT
END:VCALENDAR