BEGIN:VCALENDAR
VERSION:2.0
PRODID:-//Christian Science St. Louis - ECPv6.15.14//NONSGML v1.0//EN
CALSCALE:GREGORIAN
METHOD:PUBLISH
X-WR-CALNAME:Christian Science St. Louis
X-ORIGINAL-URL:https://www.christiansciencestl.org
X-WR-CALDESC:Events for Christian Science St. Louis
REFRESH-INTERVAL;VALUE=DURATION:PT1H
X-Robots-Tag:noindex
X-PUBLISHED-TTL:PT1H
BEGIN:VTIMEZONE
TZID:America/Chicago
BEGIN:DAYLIGHT
TZOFFSETFROM:-0600
TZOFFSETTO:-0500
TZNAME:CDT
DTSTART:20250309T080000
END:DAYLIGHT
BEGIN:STANDARD
TZOFFSETFROM:-0500
TZOFFSETTO:-0600
TZNAME:CST
DTSTART:20251102T070000
END:STANDARD
BEGIN:DAYLIGHT
TZOFFSETFROM:-0600
TZOFFSETTO:-0500
TZNAME:CDT
DTSTART:20260308T080000
END:DAYLIGHT
BEGIN:STANDARD
TZOFFSETFROM:-0500
TZOFFSETTO:-0600
TZNAME:CST
DTSTART:20261101T070000
END:STANDARD
BEGIN:DAYLIGHT
TZOFFSETFROM:-0600
TZOFFSETTO:-0500
TZNAME:CDT
DTSTART:20270314T080000
END:DAYLIGHT
BEGIN:STANDARD
TZOFFSETFROM:-0500
TZOFFSETTO:-0600
TZNAME:CST
DTSTART:20271107T070000
END:STANDARD
END:VTIMEZONE
BEGIN:VTIMEZONE
TZID:America/Chicago
BEGIN:DAYLIGHT
TZOFFSETFROM:-0600
TZOFFSETTO:-0500
TZNAME:CDT
DTSTART:20250309T080000
END:DAYLIGHT
BEGIN:STANDARD
TZOFFSETFROM:-0500
TZOFFSETTO:-0600
TZNAME:CST
DTSTART:20251102T070000
END:STANDARD
BEGIN:DAYLIGHT
TZOFFSETFROM:-0600
TZOFFSETTO:-0500
TZNAME:CDT
DTSTART:20260308T080000
END:DAYLIGHT
BEGIN:STANDARD
TZOFFSETFROM:-0500
TZOFFSETTO:-0600
TZNAME:CST
DTSTART:20261101T070000
END:STANDARD
BEGIN:DAYLIGHT
TZOFFSETFROM:-0600
TZOFFSETTO:-0500
TZNAME:CDT
DTSTART:20270314T080000
END:DAYLIGHT
BEGIN:STANDARD
TZOFFSETFROM:-0500
TZOFFSETTO:-0600
TZNAME:CST
DTSTART:20271107T070000
END:STANDARD
END:VTIMEZONE
BEGIN:VTIMEZONE
TZID:UTC
BEGIN:STANDARD
TZOFFSETFROM:+0000
TZOFFSETTO:+0000
TZNAME:UTC
DTSTART:20250101T000000
END:STANDARD
END:VTIMEZONE
BEGIN:VEVENT
DTSTART;TZID=America/Chicago:20260425T110000
DTEND;TZID=America/Chicago:20260426T170000
DTSTAMP:20260421T210248
CREATED:20260328T153926Z
LAST-MODIFIED:20260407T230852Z
UID:10009170-1777114800-1777222800@www.christiansciencestl.org
SUMMARY:Spiritual Sustainability at St. Louis Earth Day Festival
DESCRIPTION:St. Louis Earth Day Festival at Muny Grounds\nForest Park \n\nCan our SPIRITUALITY impact sustainability?\nYou are invited!\nStop by the Christian Science booth at the St. Louis Earth Day Festival. Join us for lively discussions about the relevance of prayer and spirituality to solving environmental and sustainability challenges. Booth M20.\nWe’ll be there at Booth M20 on both Saturday and Sunday\, April 26 and April 26 from 11 am to 5 pm each day.\nSee you there!\n\n\nSpiritual Sustainability – Booth M20\nat St. Louis Earth Day Festival\nSat & Sun\, April 25 and 26\n11 am – 5 pm each day\nMuny Grounds in Forest Park\n1 Theatre Drive\, St. Louis\, MO\, 63112\nSee all information on the right side bar.\nCall 314-918-5350 with questions\nBooth sponsored First Church of Christ\, Scientist\, Creve Coeur
URL:https://www.christiansciencestl.org/events/spiritual-sustainability-at-st-louis-earth-day-festival/
LOCATION:St Louis Earth Day Festival\, 1 Theatre Drive\, St. Louis\, MO\, 63112
CATEGORIES:Featured,Special Event
ATTACH;FMTTYPE=image/jpeg:https://www.christiansciencestl.org/wp-content/uploads/2025/04/CSSTL-Spiritual-Sustainability-SQ-2.jpg
END:VEVENT
BEGIN:VEVENT
DTSTART;TZID=America/Chicago:20260426T100000
DTEND;TZID=America/Chicago:20260426T100000
DTSTAMP:20260421T210248
CREATED:20240111T203607Z
LAST-MODIFIED:20250722T134721Z
UID:10008132-1777197600-1777197600@www.christiansciencestl.org
SUMMARY:Church service every Sunday morning
DESCRIPTION:Sunday Church Services\n\n\nEvery Sunday morning\, the Christian Science churches in St. Louis hold Bible-based services that include readings\, hymns\, and music. Click to find your closest church.
URL:https://www.christiansciencestl.org/events/find-a-church-service-every-sunday-morning-and-wednesday-evening-2-2/2026-04-26/
CATEGORIES:Sunday Church Services
ATTACH;FMTTYPE=image/jpeg:https://www.christiansciencestl.org/wp-content/uploads/2022/10/Kirkwood-750x750-1.jpg
END:VEVENT
BEGIN:VEVENT
DTSTART;TZID=America/Chicago:20260426T100000
DTEND;TZID=America/Chicago:20260426T100000
DTSTAMP:20260421T210248
CREATED:20260410T153602Z
LAST-MODIFIED:20260410T153616Z
UID:10009098-1777197600-1777197600@www.christiansciencestl.org
SUMMARY:Attend a Church Service Every Sunday Morning
DESCRIPTION:Sunday Church Services\n\n\nEvery Sunday morning\, the Christian Science churches in St. Louis hold Bible-based services that include readings\, hymns\, and music. \nClick  here to find a church closest to you!
URL:https://www.christiansciencestl.org/events/attend-a-church-service-every-sunday-morning-2-2/2026-04-26/
CATEGORIES:Sunday Church Services
ATTACH;FMTTYPE=image/jpeg:https://www.christiansciencestl.org/wp-content/uploads/2022/10/jerseyville-750x750-1.jpg
END:VEVENT
BEGIN:VEVENT
DTSTART;TZID=UTC:20260429T190000
DTEND;TZID=UTC:20260429T210000
DTSTAMP:20260421T210248
CREATED:20240111T183053Z
LAST-MODIFIED:20250722T134801Z
UID:10007144-1777489200-1777496400@www.christiansciencestl.org
SUMMARY:Wednesday Testimony Meeting every week!
DESCRIPTION:Every Wednesday evening\, Christian Science churches in St. Louis hold Bible-based services that include readings\, music\, and a time to share healings and insights. Find your closest church.
URL:https://www.christiansciencestl.org/events/wednesday-nov-2-2/2026-04-29/
CATEGORIES:Wednesday Testimony Meetings
ATTACH;FMTTYPE=image/png:https://www.christiansciencestl.org/wp-content/uploads/2022/10/Sun-Srve-BibleInPew-700pxl.png
END:VEVENT
BEGIN:VEVENT
DTSTART;VALUE=DATE:20260501
DTEND;VALUE=DATE:20260502
DTSTAMP:20260421T210248
CREATED:20260331T135307Z
LAST-MODIFIED:20260331T135307Z
UID:10008688-1777593600-1777679999@www.christiansciencestl.org
SUMMARY:Daily Lift -- Inspiration Monday through Friday!
DESCRIPTION:Get Your Daily Lift 5 Days A Week!\nThe Christian Science Daily Lift podcast contains life stories and spiritual lessons from people just like you. Each Lift shares a healing idea that can bless you and help you bless others —all in just a few minutes. The Daily Lift has new episodes Monday through Friday. \nClick here to listen in 24/7\n 
URL:https://www.christiansciencestl.org/events/daily-lift-3-2-2-2/2026-05-01/
CATEGORIES:Daily Inspiration
ATTACH;FMTTYPE=image/png:https://www.christiansciencestl.org/wp-content/uploads/2023/09/CS-STL-Daily-Lift-thumb.png
END:VEVENT
END:VCALENDAR