BEGIN:VCALENDAR
VERSION:2.0
PRODID:-//Christian Science St. Louis - ECPv6.15.14//NONSGML v1.0//EN
CALSCALE:GREGORIAN
METHOD:PUBLISH
X-ORIGINAL-URL:https://www.christiansciencestl.org
X-WR-CALDESC:Events for Christian Science St. Louis
REFRESH-INTERVAL;VALUE=DURATION:PT1H
X-Robots-Tag:noindex
X-PUBLISHED-TTL:PT1H
BEGIN:VTIMEZONE
TZID:America/Chicago
BEGIN:DAYLIGHT
TZOFFSETFROM:-0600
TZOFFSETTO:-0500
TZNAME:CDT
DTSTART:20220313T080000
END:DAYLIGHT
BEGIN:STANDARD
TZOFFSETFROM:-0500
TZOFFSETTO:-0600
TZNAME:CST
DTSTART:20221106T070000
END:STANDARD
BEGIN:DAYLIGHT
TZOFFSETFROM:-0600
TZOFFSETTO:-0500
TZNAME:CDT
DTSTART:20230312T080000
END:DAYLIGHT
BEGIN:STANDARD
TZOFFSETFROM:-0500
TZOFFSETTO:-0600
TZNAME:CST
DTSTART:20231105T070000
END:STANDARD
BEGIN:DAYLIGHT
TZOFFSETFROM:-0600
TZOFFSETTO:-0500
TZNAME:CDT
DTSTART:20240310T080000
END:DAYLIGHT
BEGIN:STANDARD
TZOFFSETFROM:-0500
TZOFFSETTO:-0600
TZNAME:CST
DTSTART:20241103T070000
END:STANDARD
BEGIN:DAYLIGHT
TZOFFSETFROM:-0600
TZOFFSETTO:-0500
TZNAME:CDT
DTSTART:20250309T080000
END:DAYLIGHT
BEGIN:STANDARD
TZOFFSETFROM:-0500
TZOFFSETTO:-0600
TZNAME:CST
DTSTART:20251102T070000
END:STANDARD
BEGIN:DAYLIGHT
TZOFFSETFROM:-0600
TZOFFSETTO:-0500
TZNAME:CDT
DTSTART:20260308T080000
END:DAYLIGHT
BEGIN:STANDARD
TZOFFSETFROM:-0500
TZOFFSETTO:-0600
TZNAME:CST
DTSTART:20261101T070000
END:STANDARD
END:VTIMEZONE
BEGIN:VEVENT
DTSTART;TZID=America/Chicago:20251012T140000
DTEND;TZID=America/Chicago:20251012T150000
DTSTAMP:20260420T111857
CREATED:20250913T000158Z
LAST-MODIFIED:20250917T003428Z
UID:10009151-1760277600-1760281200@www.christiansciencestl.org
SUMMARY:Free Public Talk:  What Really Matters
DESCRIPTION:Forest Park\nChild care provided \nWhat Really Matters\nwith Nicole Virgil\n______________________________________________________________________ \nEveryone is invited to a free talk on Christian Science: What Really Matters\, presented by Nicole Virgil. Discovering our capacity to sort reality from unreality\, what matters from what doesn’t\, can bring healing\, clarity\, and freedom. \nAbout Nicole Virgil \nNicole’s father was a free-lance church organist\, and her parents attended services at many different Christian churches in New England. Her mom had been on a years-long search to find out how to practice Christian healing just as Jesus did\, and when she started attending Christian Science church services\, she found what she was looking for. As a result\, Nicole was raised in Christian Science\, and developed a deep desire for an intimate relationship with God. \nNicole studied Christian Science with her mom and music with her dad\, and found that each discipline complemented the other. Christian Science healed performance anxiety\, while learning music honed the skills she needed for spiritual practice — skills such as intuition\, listening\, patience and diligence. Throughout her life\, Christian Science and music have always overlapped: after studying opera at music school\, she took her one-woman opera review program (That Can’t Be Opera!) on the road\, educating audiences about opera by singing Mozart\, Puccini\, and Menotti. Christian Science guided her through this entrepreneurial endeavor\, just as it led her to start soloing in churches as a teenager (which is something she still loves to do!) — Nicole eventually married\, started a family with her husband\, and entered the public practice of Christian Science. \nToday Nicole enjoys raising children\, gardening\, soloing in church\, and witnessing the healing effect of Christian Science. \n______________________________________________________________________ \nNicole Virgil will give her talk at\nEighth Church of Christ\, Scientist – St. Louis\, Forest Park\n6221 Alexander Drive\, St. Louis\, MO 63105\nChildcare will be provided.\nSee all information on the right side bar.
URL:https://www.christiansciencestl.org/events/free-public-talk-what-really-matters/
LOCATION:Eighth Church of Christ\, Scientist\, St. Louis\, 6221 Alexander Drive\, St. Louis\, MO\, United States
CATEGORIES:Christian Science Talks,Featured
ATTACH;FMTTYPE=image/jpeg:https://www.christiansciencestl.org/wp-content/uploads/2025/09/What-Really-Matters-Banner-SQ.jpg
END:VEVENT
BEGIN:VEVENT
DTSTART;TZID=America/Chicago:20241013T140000
DTEND;TZID=America/Chicago:20241013T150000
DTSTAMP:20260420T111857
CREATED:20240913T161701Z
LAST-MODIFIED:20250722T134501Z
UID:10008302-1728828000-1728831600@www.christiansciencestl.org
SUMMARY:Free Public Talk:  The Joy of Beginning with God
DESCRIPTION:Forest Park\nChild care provided\n\nThe Joy of Beginning with God\n\nwith Mark McCurties\n\n\n\nIn this lecture Mark McCurties will talk about causation from a spiritual point of view. In other words\, what is God causing? What kind of effects does God’s causative power produce? The Bible promises that God is causing only good. So this lecture will explore how a better understanding of the good that God forever causes can help us to experience more of that goodness in the form of health\, peace\, and safety for our world. \n  \n\n\n\n  \nAbout Mark McCurties\n\nEver since he was a little boy\, Mark had a deep love for the Bible. When he read about men and women in the Bible overcoming hatred\, famine\, war\, physical disease\, and other hardships\, their triumphs inspired him. It didn’t matter what the odds were\, or what conditions they faced\, individuals in the Bible seemed to flourish in adversity based on one common theme: their deep love for God. \nGrowing up in a Christian Science household\, there was another book that Mark loved to read daily: Science and Health with Key to the Scriptures written by Mary Baker Eddy. The very purpose of her book is to help unlock and reveal the deeper divine meaning and inspiration of the Bible. Together the Bible and Science and Health point to the practical healing and saving power of God and its present availability for all mankind. Mark knew that someday he wanted to share that healing message with the world. \nAs he grew into adulthood\, experiences in the field of education as a summer camp director\, outdoor educator\, athletics coach\, and resident counselor all helped to develop his understanding and practice of Christian Science. While working with young people\, Mark had multiple opportunities to witness God’s healing power. These examples proved to him that the healing power of the Christ is just as alive and relevant today as for the men and women of the Bible. In 2010\, with a desire to focus solely on healing through prayer\, Mark entered the full-time public practice of Christian Science. \n\nMark McCurties will give his talk at Eighth Church of Christ\, Scientist \, St. Louis\, MO 63105\nChildcare will be provided.\nSee all information on the right side bar.
URL:https://www.christiansciencestl.org/events/free-public-talk-the-joy-of-beginning-with-god-10-24/
LOCATION:Eighth Church of Christ\, Scientist\, St. Louis\, 6221 Alexander Drive\, St. Louis\, MO\, United States
CATEGORIES:Christian Science Talks,Featured
ATTACH;FMTTYPE=image/png:https://www.christiansciencestl.org/wp-content/uploads/2024/09/csstl-1.png
END:VEVENT
BEGIN:VEVENT
DTSTART;TZID=America/Chicago:20231022T140000
DTEND;TZID=America/Chicago:20231022T150000
DTSTAMP:20260420T111857
CREATED:20230921T042825Z
LAST-MODIFIED:20231109T145249Z
UID:10006676-1697983200-1697986800@www.christiansciencestl.org
SUMMARY:Free Public Talk:  Meaningful change for ourselves and the world
DESCRIPTION:CHILDCARE PROVIDED\nWant to be a spiritual agent for change? Want to know how you can make change really happen? \nJoin Mark McCurties\, Christian Science healer and public speaker\, for an hour of in-depth exploration of this change that starts  … with God.\nWe live in a world where millions of people are striving to make change for the better. So\, in a world seeking positive change\, how do we make sure that such change actually happens? \nIn my own life I’ve found that letting God\, divine Love\, guide and direct my efforts brings permanent and meaningful results… In this lecture\, I will explain how God’s loving and saving power is the greatest agent for change\, and that through a right understanding of God\, His power can be seen and felt right here and now\, bringing health and peace to the world. ~Mark McCurties \nAbout Mark McCurties\nEver since he was a little boy\, Mark had a deep love for the Bible. When he read about men and women in the Bible overcoming hatred\, famine\, war\, physical disease\, and other hardships\, their triumphs inspired him. It didn’t matter what the odds were\, or what conditions they faced\, individuals in the Bible seemed to flourish in adversity based on one common theme: their deep love for God. \nGrowing up in a Christian Science household\, there was another book that Mark loved to read daily: Science and Health with Key to the Scriptures written by Mary Baker Eddy. The very purpose of her book is to help unlock and reveal the deeper divine meaning and inspiration of the Bible. Together the Bible and Science and Health point to the practical healing and saving power of God and its present availability for all mankind. Mark knew that someday he wanted to share that healing message with the world. \nAs he grew into adulthood\, experiences in the field of education as a summer camp director\, outdoor educator\, athletics coach\, and resident counselor all helped to develop his understanding and practice of Christian Science. While working with young people\, Mark had multiple opportunities to witness God’s healing power. These examples proved to him that the healing power of the Christ is just as alive and relevant today as for the men and women of the Bible. In 2010\, with a desire to focus solely on healing through prayer\, Mark entered the full-time public practice of Christian Science. \n\nLearn More about Mark McCurties and his talk\,\nMeaningful change for ourselves and the world \n\n\nMark McCurties will give his talk at Eighth Church of Christ\, Scientist in the Wash U area.\nChildcare will be provided.\nSee all information on the right side bar.
URL:https://www.christiansciencestl.org/events/free-public-talk-meaningful-change-for-ourselves-and-the-world/
LOCATION:Eighth Church of Christ\, Scientist\, St. Louis\, 6221 Alexander Drive\, St. Louis\, MO\, United States
CATEGORIES:Christian Science Talks,Featured
ATTACH;FMTTYPE=image/png:https://www.christiansciencestl.org/wp-content/uploads/2023/09/change-in-worldpexels-cameron.png
END:VEVENT
END:VCALENDAR